BEGIN:VCALENDAR
VERSION:2.0
PRODID:-//wp-events-plugin.com//7.0.2//EN
BEGIN:VEVENT
UID:125@myfest.equityunbound.org
DTSTART:20250610T130000Z
DTEND:20250610T150000Z
DTSTAMP:20250618T091534Z
URL:https://myfest.equityunbound.org/events/crossing-the-divide-where-imag
 ination-focus-and-flow-meet/
SUMMARY:Crossing the Divide: Where Imagination\, Focus\, and Flow Meet
DESCRIPTION:This experiential workshop explores how to use imagination inte
 ntionally by balancing the brain’s creative and task-oriented networks. 
 Learn how to design for engagement\, structure\, and flow—where real lea
 rning happens.\nSession Duration: 2 hours
ATTACH;FMTTYPE=image/jpeg:https://myfest.equityunbound.org/wp-content/uplo
 ads/2025/05/Robin-Ilibasic-Tanja-Murphy-new.png
CATEGORIES:Teaching &amp; Learning with Imagination
END:VEVENT
END:VCALENDAR